BEGIN:VCALENDAR
VERSION:2.0
PRODID:-//eventon.com NONSGML v1.0//EN
CALSCALE:GREGORIAN
METHOD:PUBLISH
BEGIN:VEVENT
UID:69e60bbbdf05b
DTSTAMP:20260420T131923
DTSTART:20221219T190000Z
DTEND:20221219T210000Z
TZID:Europe/Paris
LOCATION:https://us06web.zoom.us/j/83098605566 
SUMMARY:Conférence Zoom : L'Air du Temps Astrologique : l'ANNEE 2023
DESCRIPTION: Conférence Zoom : L'Air du Temps Astrologique : l'ANNEE 2023\nhttps://astrologieduverseau.fr/events/conference-zoom-lair-du-temps-astrologique-lannee-2023/var/event_access
URL:https://astrologieduverseau.fr/events/conference-zoom-lair-du-temps-astrologique-lannee-2023/var/event_access
END:VEVENT
END:VCALENDAR