BEGIN:VCALENDAR
VERSION:2.0
PRODID:-//eventon.com NONSGML v1.0//EN
CALSCALE:GREGORIAN
METHOD:PUBLISH
BEGIN:VEVENT
UID:69e7499c61d14
DTSTAMP:20260421T115540
DTSTART:20221215T090000Z
DTEND:20221215T120000Z
TZID:Europe/Paris
LOCATION:Astrologie pour l&#039;Ere du Verseau Le Mas de Fabre
SUMMARY:COURS 1: Introduction à la place et à l’utilisation des Cycles en astrologie - avec Fanchon Pradalier-Roy
DESCRIPTION: COURS 1: Introduction à la place et à l’utilisation des Cycles en astrologie - avec Fanchon Pradalier-Roy\nhttps://astrologieduverseau.fr/events/cours-1/
URL:https://astrologieduverseau.fr/events/cours-1/
END:VEVENT
END:VCALENDAR